BEGIN:VCALENDAR
VERSION:2.0
PRODID:-//Wolston Parish Council//Meeting Calendar//EN
CALSCALE:GREGORIAN
METHOD:PUBLISH
BEGIN:VEVENT
UID:70909-20210506@wolstonparishcouncil.gov.uk
DTSTAMP:20260421T081716Z
DTSTART;VALUE=DATE:20210506
DTEND;VALUE=DATE:20210507
SUMMARY:Annual Parish Council Meeting &#8211\\; 6 May 2021
DESCRIPTION:Annual Parish Meeting\nView details: https://wolstonparishcouncil.gov.uk/meetings/annual-parish-council-meeting-6-may-2021/
URL:https://wolstonparishcouncil.gov.uk/meetings/annual-parish-council-meeting-6-may-2021/
END:VEVENT
END:VCALENDAR
