BEGIN:VCALENDAR
VERSION:2.0
PRODID:-//Wolston Parish Council//Meeting Calendar//EN
CALSCALE:GREGORIAN
METHOD:PUBLISH
BEGIN:VEVENT
UID:70847-20220512@wolstonparishcouncil.gov.uk
DTSTAMP:20260423T085626Z
DTSTART;VALUE=DATE:20220512
DTEND;VALUE=DATE:20220513
SUMMARY:Annual Parish Council Meeting &#8211\\; 12 May 2022
DESCRIPTION:Annual Parish Meeting\nView details: https://wolstonparishcouncil.gov.uk/meetings/annual-parish-council-meeting-12-may-2022/
URL:https://wolstonparishcouncil.gov.uk/meetings/annual-parish-council-meeting-12-may-2022/
END:VEVENT
END:VCALENDAR
