BEGIN:VCALENDAR
VERSION:2.0
PRODID:-//Wolston Parish Council//Meeting Calendar//EN
CALSCALE:GREGORIAN
METHOD:PUBLISH
BEGIN:VEVENT
UID:70836-20230504@wolstonparishcouncil.gov.uk
DTSTAMP:20260423T090235Z
DTSTART;VALUE=DATE:20230504
DTEND;VALUE=DATE:20230505
SUMMARY:Annual Parish Council Meeting &#8211\\; 4 May 2023
DESCRIPTION:Annual Parish Meeting\nView details: https://wolstonparishcouncil.gov.uk/meetings/annual-parish-council-meeting-4-may-2023/
URL:https://wolstonparishcouncil.gov.uk/meetings/annual-parish-council-meeting-4-may-2023/
END:VEVENT
END:VCALENDAR
