BEGIN:VCALENDAR
VERSION:2.0
PRODID:-//Wolston Parish Council//Meeting Calendar//EN
CALSCALE:GREGORIAN
METHOD:PUBLISH
BEGIN:VEVENT
UID:70767-20240101@wolstonparishcouncil.gov.uk
DTSTAMP:20260423T085009Z
DTSTART;VALUE=DATE:20240101
DTEND;VALUE=DATE:20240102
SUMMARY:Council Meetings &#8211\\; 2024
DESCRIPTION:Full Council Meeting\nView details: https://wolstonparishcouncil.gov.uk/meetings/council-meetings-2024/
URL:https://wolstonparishcouncil.gov.uk/meetings/council-meetings-2024/
END:VEVENT
END:VCALENDAR
