BEGIN:VCALENDAR
VERSION:2.0
PRODID:-//Wolston Parish Council//Meeting Calendar//EN
CALSCALE:GREGORIAN
METHOD:PUBLISH
BEGIN:VEVENT
UID:70743-20250326@wolstonparishcouncil.gov.uk
DTSTAMP:20260419T123908Z
DTSTART;VALUE=DATE:20250326
DTEND;VALUE=DATE:20250327
SUMMARY:Council Meeting &#8211\\; 26 March 2025
DESCRIPTION:Full Council Meeting\nView details: https://wolstonparishcouncil.gov.uk/meetings/council-meeting-26-march-2025/
URL:https://wolstonparishcouncil.gov.uk/meetings/council-meeting-26-march-2025/
END:VEVENT
END:VCALENDAR
