BEGIN:VCALENDAR
VERSION:2.0
PRODID:-//Wolston Parish Council//Meeting Calendar//EN
CALSCALE:GREGORIAN
METHOD:PUBLISH
BEGIN:VEVENT
UID:70740-20250306@wolstonparishcouncil.gov.uk
DTSTAMP:20260421T122425Z
DTSTART;VALUE=DATE:20250306
DTEND;VALUE=DATE:20250307
SUMMARY:Council Meeting &#8211\\; 6 March 2025
DESCRIPTION:Full Council Meeting\nView details: https://wolstonparishcouncil.gov.uk/meetings/council-meeting-6-march-2025/
URL:https://wolstonparishcouncil.gov.uk/meetings/council-meeting-6-march-2025/
END:VEVENT
END:VCALENDAR
