BEGIN:VCALENDAR
VERSION:2.0
PRODID:-//Wolston Parish Council//Meeting Calendar//EN
CALSCALE:GREGORIAN
METHOD:PUBLISH
BEGIN:VEVENT
UID:70737-20250219@wolstonparishcouncil.gov.uk
DTSTAMP:20260421T082845Z
DTSTART;VALUE=DATE:20250219
DTEND;VALUE=DATE:20250220
SUMMARY:Council Meeting &#8211\\; 19 February 2025
DESCRIPTION:Full Council Meeting\nView details: https://wolstonparishcouncil.gov.uk/meetings/council-meeting-19-february-2025/
URL:https://wolstonparishcouncil.gov.uk/meetings/council-meeting-19-february-2025/
END:VEVENT
END:VCALENDAR
