BEGIN:VCALENDAR
VERSION:2.0
PRODID:-//Wolston Parish Council//Meeting Calendar//EN
CALSCALE:GREGORIAN
METHOD:PUBLISH
BEGIN:VEVENT
UID:70734-20250102@wolstonparishcouncil.gov.uk
DTSTAMP:20260421T082509Z
DTSTART;VALUE=DATE:20250102
DTEND;VALUE=DATE:20250103
SUMMARY:Council Meeting &#8211\\; 2 January 2025
DESCRIPTION:Full Council Meeting\nView details: https://wolstonparishcouncil.gov.uk/meetings/council-meeting-2-january-2025/
URL:https://wolstonparishcouncil.gov.uk/meetings/council-meeting-2-january-2025/
END:VEVENT
END:VCALENDAR
